BEGIN:VCALENDAR
VERSION:2.0
PRODID:-//tsg-wilhelmsdorf - ECPv6.15.20//NONSGML v1.0//EN
CALSCALE:GREGORIAN
METHOD:PUBLISH
X-ORIGINAL-URL:https://tsg-wilhelmsdorf.de
X-WR-CALDESC:Veranstaltungen für tsg-wilhelmsdorf
REFRESH-INTERVAL;VALUE=DURATION:PT1H
X-Robots-Tag:noindex
X-PUBLISHED-TTL:PT1H
BEGIN:VTIMEZONE
TZID:Europe/Berlin
BEGIN:DAYLIGHT
TZOFFSETFROM:+0100
TZOFFSETTO:+0200
TZNAME:CEST
DTSTART:20210328T010000
END:DAYLIGHT
BEGIN:STANDARD
TZOFFSETFROM:+0200
TZOFFSETTO:+0100
TZNAME:CET
DTSTART:20211031T010000
END:STANDARD
BEGIN:DAYLIGHT
TZOFFSETFROM:+0100
TZOFFSETTO:+0200
TZNAME:CEST
DTSTART:20220327T010000
END:DAYLIGHT
BEGIN:STANDARD
TZOFFSETFROM:+0200
TZOFFSETTO:+0100
TZNAME:CET
DTSTART:20221030T010000
END:STANDARD
BEGIN:DAYLIGHT
TZOFFSETFROM:+0100
TZOFFSETTO:+0200
TZNAME:CEST
DTSTART:20230326T010000
END:DAYLIGHT
BEGIN:STANDARD
TZOFFSETFROM:+0200
TZOFFSETTO:+0100
TZNAME:CET
DTSTART:20231029T010000
END:STANDARD
END:VTIMEZONE
BEGIN:VEVENT
DTSTART;TZID=Europe/Berlin:20220702T100000
DTEND;TZID=Europe/Berlin:20220702T170000
DTSTAMP:20260425T003624
CREATED:20220630T084927Z
LAST-MODIFIED:20220630T084927Z
UID:8749-1656756000-1656781200@tsg-wilhelmsdorf.de
SUMMARY:Tennis Spieltag Hobby Herren
DESCRIPTION:
URL:https://tsg-wilhelmsdorf.de/event/tennis-spieltag-hobby-herren/
LOCATION:Tennisplatz Fischbach\, Zaunkönigweg 7\, Friedrichshafen\, 88048
CATEGORIES:Tennis
ATTACH;FMTTYPE=image/jpeg:https://tsg-wilhelmsdorf.de/wp-content/uploads/2018/08/TSG-Wilhelmsdorf-Tennis-Night-Fight-2018-20c.jpg
END:VEVENT
END:VCALENDAR