BEGIN:VCALENDAR
VERSION:2.0
PRODID:-//tsg-wilhelmsdorf - ECPv6.15.20//NONSGML v1.0//EN
CALSCALE:GREGORIAN
METHOD:PUBLISH
X-ORIGINAL-URL:https://tsg-wilhelmsdorf.de
X-WR-CALDESC:Veranstaltungen für tsg-wilhelmsdorf
REFRESH-INTERVAL;VALUE=DURATION:PT1H
X-Robots-Tag:noindex
X-PUBLISHED-TTL:PT1H
BEGIN:VTIMEZONE
TZID:Europe/Berlin
BEGIN:DAYLIGHT
TZOFFSETFROM:+0100
TZOFFSETTO:+0200
TZNAME:CEST
DTSTART:20210328T010000
END:DAYLIGHT
BEGIN:STANDARD
TZOFFSETFROM:+0200
TZOFFSETTO:+0100
TZNAME:CET
DTSTART:20211031T010000
END:STANDARD
BEGIN:DAYLIGHT
TZOFFSETFROM:+0100
TZOFFSETTO:+0200
TZNAME:CEST
DTSTART:20220327T010000
END:DAYLIGHT
BEGIN:STANDARD
TZOFFSETFROM:+0200
TZOFFSETTO:+0100
TZNAME:CET
DTSTART:20221030T010000
END:STANDARD
BEGIN:DAYLIGHT
TZOFFSETFROM:+0100
TZOFFSETTO:+0200
TZNAME:CEST
DTSTART:20230326T010000
END:DAYLIGHT
BEGIN:STANDARD
TZOFFSETFROM:+0200
TZOFFSETTO:+0100
TZNAME:CET
DTSTART:20231029T010000
END:STANDARD
END:VTIMEZONE
BEGIN:VEVENT
DTSTART;TZID=Europe/Berlin:20220917T143000
DTEND;TZID=Europe/Berlin:20220917T163000
DTSTAMP:20260424T175256
CREATED:20220907T131705Z
LAST-MODIFIED:20220907T131705Z
UID:8949-1663425000-1663432200@tsg-wilhelmsdorf.de
SUMMARY:Kinderturn-Saisonstart
DESCRIPTION:Kinderturn-Saisonstart\nWir wollen gemeinsam mit euch an einem Samstag Nachmittag in den Turnherbst starten. \nEgal\, ob ihr euch schon entschieden habt\, wieder zum Kinderturnen zu kommen oder nur mal reinschnuppern wollt. Du bist herzlich willkommen mit uns in den Turnherbst zu starten. \nSamstag\, den 17. September 2022 von 14:30 Uhr bis 16:30 Uhr in der Grundschulturnhalle \nEs freuen sich Hanna\, Helma und Jennifer!
URL:https://tsg-wilhelmsdorf.de/event/kinderturn-saisonstart/
LOCATION:Grundschulturnhalle\, Schulstraße 2\, Wilhelmsdorf\, Baden-Württemberg\, 88271\, Deutschland
CATEGORIES:JuKiTT
ATTACH;FMTTYPE=image/jpeg:https://tsg-wilhelmsdorf.de/wp-content/uploads/2018/04/TSG-Wilhelmsdorf-JuKiTT-Paket-2018-01c.jpg
END:VEVENT
END:VCALENDAR