BEGIN:VCALENDAR
VERSION:2.0
PRODID:-//tsg-wilhelmsdorf - ECPv6.15.20//NONSGML v1.0//EN
CALSCALE:GREGORIAN
METHOD:PUBLISH
X-WR-CALNAME:tsg-wilhelmsdorf
X-ORIGINAL-URL:https://tsg-wilhelmsdorf.de
X-WR-CALDESC:Veranstaltungen für tsg-wilhelmsdorf
REFRESH-INTERVAL;VALUE=DURATION:PT1H
X-Robots-Tag:noindex
X-PUBLISHED-TTL:PT1H
BEGIN:VTIMEZONE
TZID:Europe/Berlin
BEGIN:DAYLIGHT
TZOFFSETFROM:+0100
TZOFFSETTO:+0200
TZNAME:CEST
DTSTART:20240331T010000
END:DAYLIGHT
BEGIN:STANDARD
TZOFFSETFROM:+0200
TZOFFSETTO:+0100
TZNAME:CET
DTSTART:20241027T010000
END:STANDARD
BEGIN:DAYLIGHT
TZOFFSETFROM:+0100
TZOFFSETTO:+0200
TZNAME:CEST
DTSTART:20250330T010000
END:DAYLIGHT
BEGIN:STANDARD
TZOFFSETFROM:+0200
TZOFFSETTO:+0100
TZNAME:CET
DTSTART:20251026T010000
END:STANDARD
BEGIN:DAYLIGHT
TZOFFSETFROM:+0100
TZOFFSETTO:+0200
TZNAME:CEST
DTSTART:20260329T010000
END:DAYLIGHT
BEGIN:STANDARD
TZOFFSETFROM:+0200
TZOFFSETTO:+0100
TZNAME:CET
DTSTART:20261025T010000
END:STANDARD
END:VTIMEZONE
BEGIN:VEVENT
DTSTART;VALUE=DATE:20250809
DTEND;VALUE=DATE:20250811
DTSTAMP:20260425T211202
CREATED:20250809T093349Z
LAST-MODIFIED:20250809T093349Z
UID:11570-1754701200-1754787599@tsg-wilhelmsdorf.de
SUMMARY:Night-Fight Tennis-Flutlicht-Turnier
DESCRIPTION:6. Wilhelmsdorfer Night-Fight\nWir möchten wieder zusammen mit euch bis spät in die Nacht hinein Tennis spielen. Ganz nach dem Motto Spaß\, Spiel und Sport. \nMixed-Doppel für alle Spielklassen\nTennis-Flutlichtturnier \nWann: 09. August 2025 Beginn: 14:30 Uhr\nOrt: Tennisplätze Rotäcker in Wilhelmsdorf \nBei schlechtem Wetter fällt das Turnier aus. \nFragen gerne per Mail an: tennis@tsg-wilhelmsdorf.de \n  \n 
URL:https://tsg-wilhelmsdorf.de/event/3-wilhelmsdorfer-night-fight-2/
LOCATION:Tennisplätze Rotäcker\, Rotäcker\, Wilhelmsdorf\, Baden-Württemberg\, 88271\, Deutschland
CATEGORIES:Tennis
END:VEVENT
END:VCALENDAR