BEGIN:VCALENDAR
VERSION:2.0
PRODID:-//tsg-wilhelmsdorf - ECPv6.15.20//NONSGML v1.0//EN
CALSCALE:GREGORIAN
METHOD:PUBLISH
X-WR-CALNAME:tsg-wilhelmsdorf
X-ORIGINAL-URL:https://tsg-wilhelmsdorf.de
X-WR-CALDESC:Veranstaltungen für tsg-wilhelmsdorf
REFRESH-INTERVAL;VALUE=DURATION:PT1H
X-Robots-Tag:noindex
X-PUBLISHED-TTL:PT1H
BEGIN:VTIMEZONE
TZID:Europe/Berlin
BEGIN:DAYLIGHT
TZOFFSETFROM:+0100
TZOFFSETTO:+0200
TZNAME:CEST
DTSTART:20240331T010000
END:DAYLIGHT
BEGIN:STANDARD
TZOFFSETFROM:+0200
TZOFFSETTO:+0100
TZNAME:CET
DTSTART:20241027T010000
END:STANDARD
BEGIN:DAYLIGHT
TZOFFSETFROM:+0100
TZOFFSETTO:+0200
TZNAME:CEST
DTSTART:20250330T010000
END:DAYLIGHT
BEGIN:STANDARD
TZOFFSETFROM:+0200
TZOFFSETTO:+0100
TZNAME:CET
DTSTART:20251026T010000
END:STANDARD
BEGIN:DAYLIGHT
TZOFFSETFROM:+0100
TZOFFSETTO:+0200
TZNAME:CEST
DTSTART:20260329T010000
END:DAYLIGHT
BEGIN:STANDARD
TZOFFSETFROM:+0200
TZOFFSETTO:+0100
TZNAME:CET
DTSTART:20261025T010000
END:STANDARD
END:VTIMEZONE
BEGIN:VEVENT
DTSTART;VALUE=DATE:20250118
DTEND;VALUE=DATE:20250120
DTSTAMP:20260422T005144
CREATED:20231012T113343Z
LAST-MODIFIED:20241014T092517Z
UID:9830-1737162000-1737248399@tsg-wilhelmsdorf.de
SUMMARY:23. Integrativen Tischtennisturnier der Sportkooperation TSG Wilhelmsdorf/ Die Zieglerschen
DESCRIPTION:Ganz herzlich möchten wir Sie und Euch zum 23. Tischtennisturnier einladen. \nWer gelegentlich oder regelmäßig Tischtennis spielt\, sollte die Gelegenheit nutzen\, um andere Tischtennisfreunde zu treffen\, seine Fähigkeiten mit ihnen zu vergleichen\, weiterzuentwickeln und einfach Spaß zu haben. Daher lädt die Sportkooperation TSG Wilhelmsdorf/ Die Zieglerschen zum Tischtennisturnier ein. \nWann: Samstag\, den 18.01.2025 von 9:00 – ca. 14:00 Uhr  \nOrt: Riedhalle in Wilhelmsdorf \nAnmeldung: Infos folgen \n  \n  \n  \n 
URL:https://tsg-wilhelmsdorf.de/event/22-integrativen-tischtennisturnier-der-sportkooperation-tsg-wilhelmsdorf-die-zieglerschen/
LOCATION:Riedhalle\, Wilhelmsdorf\, Am Riedgarten 12\, Wilhelmsdorf\, Baden-Württemberg\, 88271\, Deutschland
CATEGORIES:Gesamtverein,Sport für Menschen mit Behinderung,Sport für Menschen mit Behinderung Tischtennis
ATTACH;FMTTYPE=image/jpeg:https://tsg-wilhelmsdorf.de/wp-content/uploads/2018/04/TSG-Wilhelmsdorf-SMB-Tischtennis-integratives-Turnier-2018-07c.jpg
END:VEVENT
END:VCALENDAR